BEGIN:VCALENDAR
VERSION:2.0
PRODID:-//Mt. Lebanon, PA - ECPv6.15.18//NONSGML v1.0//EN
CALSCALE:GREGORIAN
METHOD:PUBLISH
X-WR-CALNAME:Mt. Lebanon, PA
X-ORIGINAL-URL:https://mtlebanon.org
X-WR-CALDESC:Events for Mt. Lebanon, PA
REFRESH-INTERVAL;VALUE=DURATION:PT1H
X-Robots-Tag:noindex
X-PUBLISHED-TTL:PT1H
BEGIN:VTIMEZONE
TZID:America/New_York
BEGIN:DAYLIGHT
TZOFFSETFROM:-0500
TZOFFSETTO:-0400
TZNAME:EDT
DTSTART:20240310T070000
END:DAYLIGHT
BEGIN:STANDARD
TZOFFSETFROM:-0400
TZOFFSETTO:-0500
TZNAME:EST
DTSTART:20241103T060000
END:STANDARD
BEGIN:DAYLIGHT
TZOFFSETFROM:-0500
TZOFFSETTO:-0400
TZNAME:EDT
DTSTART:20250309T070000
END:DAYLIGHT
BEGIN:STANDARD
TZOFFSETFROM:-0400
TZOFFSETTO:-0500
TZNAME:EST
DTSTART:20251102T060000
END:STANDARD
BEGIN:DAYLIGHT
TZOFFSETFROM:-0500
TZOFFSETTO:-0400
TZNAME:EDT
DTSTART:20260308T070000
END:DAYLIGHT
BEGIN:STANDARD
TZOFFSETFROM:-0400
TZOFFSETTO:-0500
TZNAME:EST
DTSTART:20261101T060000
END:STANDARD
END:VTIMEZONE
BEGIN:VEVENT
DTSTART;TZID=America/New_York:20251202T180000
DTEND;TZID=America/New_York:20251202T190000
DTSTAMP:20260425T223114
CREATED:20241218T220509Z
LAST-MODIFIED:20251126T135501Z
UID:10001722-1764698400-1764702000@mtlebanon.org
SUMMARY:Mobility and Transportation Board
DESCRIPTION:Municipal Building\, 104C
URL:https://mtlebanon.org/event/mobility-and-transportation-board-22/
LOCATION:Municipal Building\, 710 Washington Rd.\, Mt. Lebanon\, PA\, 15228\, United States
CATEGORIES:Mobility and Transportation Advisory Board,Municipal Meetings
END:VEVENT
BEGIN:VEVENT
DTSTART;TZID=America/New_York:20251203T180000
DTEND;TZID=America/New_York:20251203T190000
DTSTAMP:20260425T223114
CREATED:20241218T225334Z
LAST-MODIFIED:20251126T141057Z
UID:10001737-1764784800-1764788400@mtlebanon.org
SUMMARY:Civic Engagement Board - Canceled
DESCRIPTION:Municipal Building\, 104C
URL:https://mtlebanon.org/event/civic-engagement-board-22/
LOCATION:Municipal Building\, 710 Washington Rd.\, Mt. Lebanon\, PA\, 15228\, United States
CATEGORIES:Civic Engagement Advisory Board,Municipal Meetings
END:VEVENT
BEGIN:VEVENT
DTSTART;TZID=America/New_York:20251204T190000
DTEND;TZID=America/New_York:20251204T203000
DTSTAMP:20260425T223114
CREATED:20251014T190815Z
LAST-MODIFIED:20251014T191014Z
UID:10001948-1764874800-1764880200@mtlebanon.org
SUMMARY:Beverly Brite Nite
DESCRIPTION:Join us for Beverly Brite Nite…Santa\, holiday cheer and extended shopping hours on Beverly Road \n \n 
URL:https://mtlebanon.org/event/beverly-brite-nite-3/
LOCATION:Beverly Road\, Beverly Road\, PIttsburgh\, 15216\, United States
CATEGORIES:Municipal Events
END:VEVENT
BEGIN:VEVENT
DTSTART;TZID=America/New_York:20251206T120000
DTEND;TZID=America/New_York:20251206T170000
DTSTAMP:20260425T223114
CREATED:20251002T201527Z
LAST-MODIFIED:20251002T201527Z
UID:10001947-1765022400-1765040400@mtlebanon.org
SUMMARY:Uptown Market and Holiday Celebration
DESCRIPTION:Our annual holiday celebration in the Uptown Business District! Santa\, great holiday shopping at craft and food vendors\, model railroad display and a tree lighting in Clearview Common. PLUS\, new this year: a chili cook off at the Public Safety Building. See you there!
URL:https://mtlebanon.org/event/uptown-market-and-holiday-celebration-3/
LOCATION:Washington Road\, Washington Road\, Pittsburgh\, PA\, United States
CATEGORIES:Municipal Events
END:VEVENT
BEGIN:VEVENT
DTSTART;TZID=America/New_York:20251209T183000
DTEND;TZID=America/New_York:20251209T200000
DTSTAMP:20260425T223114
CREATED:20241217T214937Z
LAST-MODIFIED:20251020T135631Z
UID:10001682-1765305000-1765310400@mtlebanon.org
SUMMARY:Commission Discussion Session
DESCRIPTION:Municipal Building\, Room C
URL:https://mtlebanon.org/event/commission-discussion-session-51/
LOCATION:Municipal Building\, 710 Washington Rd.\, Mt. Lebanon\, PA\, 15228\, United States
CATEGORIES:Commission,Municipal Meetings
END:VEVENT
BEGIN:VEVENT
DTSTART;TZID=America/New_York:20251209T200000
DTEND;TZID=America/New_York:20251209T210000
DTSTAMP:20260425T223114
CREATED:20241217T204458Z
LAST-MODIFIED:20251020T140022Z
UID:10001656-1765310400-1765314000@mtlebanon.org
SUMMARY:Regular Commission Meeting
DESCRIPTION:Municipal Building\, Commission Chambers
URL:https://mtlebanon.org/event/regular-commission-meeting-51/
LOCATION:Municipal Building\, 710 Washington Rd.\, Mt. Lebanon\, PA\, 15228\, United States
CATEGORIES:Commission,Municipal Meetings
END:VEVENT
BEGIN:VEVENT
DTSTART;TZID=America/New_York:20251210T180000
DTEND;TZID=America/New_York:20251210T190000
DTSTAMP:20260425T223114
CREATED:20241218T184356Z
LAST-MODIFIED:20251208T145642Z
UID:10001709-1765389600-1765393200@mtlebanon.org
SUMMARY:Financial Management Board
DESCRIPTION:Municipal Building\, 104C \n 
URL:https://mtlebanon.org/event/financial-management-board-22/
LOCATION:Municipal Building\, 710 Washington Rd.\, Mt. Lebanon\, PA\, 15228\, United States
CATEGORIES:Financial Management Advisory Board
END:VEVENT
BEGIN:VEVENT
DTSTART;TZID=America/New_York:20251216T190000
DTEND;TZID=America/New_York:20251216T200000
DTSTAMP:20260425T223114
CREATED:20241230T200902Z
LAST-MODIFIED:20251210T193822Z
UID:10001763-1765911600-1765915200@mtlebanon.org
SUMMARY:Planning Board Meeting canceled
DESCRIPTION:Municipal Building\, Commission Chambers 
URL:https://mtlebanon.org/event/planning-board-meeting-22/
LOCATION:Municipal Building\, 710 Washington Rd.\, Mt. Lebanon\, PA\, 15228\, United States
CATEGORIES:Municipal Meetings,Planning Board
END:VEVENT
BEGIN:VEVENT
DTSTART;TZID=America/New_York:20251217T180000
DTEND;TZID=America/New_York:20251217T190000
DTSTAMP:20260425T223114
CREATED:20241230T203133Z
LAST-MODIFIED:20251210T192035Z
UID:10001776-1765994400-1765998000@mtlebanon.org
SUMMARY:Resiliency Advisory Board - Canceled
DESCRIPTION:Municipal Building\, 107 D \n  \n 
URL:https://mtlebanon.org/event/resiliency-advisory-board-22/
LOCATION:Municipal Building\, 710 Washington Rd.\, Mt. Lebanon\, PA\, 15228\, United States
CATEGORIES:Resiliency Advisory Board
END:VEVENT
BEGIN:VEVENT
DTSTART;TZID=America/New_York:20251217T180000
DTEND;TZID=America/New_York:20251217T190000
DTSTAMP:20260425T223114
CREATED:20241230T204510Z
LAST-MODIFIED:20251210T202508Z
UID:10001789-1765994400-1765998000@mtlebanon.org
SUMMARY:Parks and Recreation Board
DESCRIPTION:Municipal Building\, 104C \n  \n 
URL:https://mtlebanon.org/event/parks-and-recreation-board-21/
LOCATION:Municipal Building\, 710 Washington Rd.\, Mt. Lebanon\, PA\, 15228\, United States
CATEGORIES:Parks and Recreation Advisory Board
END:VEVENT
BEGIN:VEVENT
DTSTART;TZID=America/New_York:20251218T190000
DTEND;TZID=America/New_York:20251218T200000
DTSTAMP:20260425T223114
CREATED:20241220T161636Z
LAST-MODIFIED:20251204T192657Z
UID:10001750-1766084400-1766088000@mtlebanon.org
SUMMARY:Zoning Hearing Board Meeting
DESCRIPTION:Municipal Building\, Commission Chambers
URL:https://mtlebanon.org/event/zoning-hearing-board-meeting-31/
LOCATION:Municipal Building\, 710 Washington Rd.\, Mt. Lebanon\, PA\, 15228\, United States
CATEGORIES:Municipal Meetings,Zoning Hearing Board
END:VEVENT
BEGIN:VEVENT
DTSTART;VALUE=DATE:20251224
DTEND;VALUE=DATE:20251225
DTSTAMP:20260425T223114
CREATED:20241022T191549Z
LAST-MODIFIED:20241022T191549Z
UID:10001627-1766534400-1766620799@mtlebanon.org
SUMMARY:Mt. Lebanon Public Library Closed
DESCRIPTION:The Mt. Lebanon Public Library will be closed today
URL:https://mtlebanon.org/event/mt-lebanon-public-library-closed-11/
LOCATION:Mt. Lebanon Public Library\, 16 Castle Shannon Blvd.\, Pittsburgh\, PA\, 15228\, United States
CATEGORIES:Municipal Events
END:VEVENT
BEGIN:VEVENT
DTSTART;TZID=America/New_York:20251224T080000
DTEND;TZID=America/New_York:20251224T170000
DTSTAMP:20260425T223114
CREATED:20251121T214851Z
LAST-MODIFIED:20251121T214851Z
UID:10001973-1766563200-1766595600@mtlebanon.org
SUMMARY:Municipal Offices Closed
DESCRIPTION:The municipal building will be closed today
URL:https://mtlebanon.org/event/municipal-offices-closed-7/
LOCATION:Municipal Building\, 710 Washington Rd.\, Mt. Lebanon\, PA\, 15228\, United States
CATEGORIES:Municipal Events
END:VEVENT
BEGIN:VEVENT
DTSTART;VALUE=DATE:20251225
DTEND;VALUE=DATE:20251226
DTSTAMP:20260425T223114
CREATED:20241022T191617Z
LAST-MODIFIED:20241022T191617Z
UID:10001628-1766620800-1766707199@mtlebanon.org
SUMMARY:Mt. Lebanon Public Library Closed
DESCRIPTION:The Mt. Lebanon Public Library will be closed today
URL:https://mtlebanon.org/event/mt-lebanon-public-library-closed-12/
LOCATION:Mt. Lebanon Public Library\, 16 Castle Shannon Blvd.\, Pittsburgh\, PA\, 15228\, United States
CATEGORIES:Municipal Events
END:VEVENT
BEGIN:VEVENT
DTSTART;TZID=America/New_York:20251225T080000
DTEND;TZID=America/New_York:20251225T170000
DTSTAMP:20260425T223114
CREATED:20251121T214915Z
LAST-MODIFIED:20251121T214915Z
UID:10001974-1766649600-1766682000@mtlebanon.org
SUMMARY:Municipal Offices Closed
DESCRIPTION:The municipal building will be closed today
URL:https://mtlebanon.org/event/municipal-offices-closed-8/
LOCATION:Municipal Building\, 710 Washington Rd.\, Mt. Lebanon\, PA\, 15228\, United States
CATEGORIES:Municipal Events
END:VEVENT
BEGIN:VEVENT
DTSTART;VALUE=DATE:20251231
DTEND;VALUE=DATE:20260101
DTSTAMP:20260425T223114
CREATED:20241022T191439Z
LAST-MODIFIED:20241022T191439Z
UID:10001625-1767139200-1767225599@mtlebanon.org
SUMMARY:Mt. Lebanon Public Library Closes @5 pm
DESCRIPTION:The Mt. Lebanon Public Library will be closed today
URL:https://mtlebanon.org/event/mt-lebanon-public-library-closes-5-pm-2/
LOCATION:Mt. Lebanon Public Library\, 16 Castle Shannon Blvd.\, Pittsburgh\, PA\, 15228\, United States
CATEGORIES:Municipal Events
END:VEVENT
END:VCALENDAR