BEGIN:VCALENDAR
VERSION:2.0
PRODID:-//Mt. Lebanon, PA - ECPv6.15.18//NONSGML v1.0//EN
CALSCALE:GREGORIAN
METHOD:PUBLISH
X-WR-CALNAME:Mt. Lebanon, PA
X-ORIGINAL-URL:https://mtlebanon.org
X-WR-CALDESC:Events for Mt. Lebanon, PA
REFRESH-INTERVAL;VALUE=DURATION:PT1H
X-Robots-Tag:noindex
X-PUBLISHED-TTL:PT1H
BEGIN:VTIMEZONE
TZID:America/New_York
BEGIN:DAYLIGHT
TZOFFSETFROM:-0500
TZOFFSETTO:-0400
TZNAME:EDT
DTSTART:20250309T070000
END:DAYLIGHT
BEGIN:STANDARD
TZOFFSETFROM:-0400
TZOFFSETTO:-0500
TZNAME:EST
DTSTART:20251102T060000
END:STANDARD
BEGIN:DAYLIGHT
TZOFFSETFROM:-0500
TZOFFSETTO:-0400
TZNAME:EDT
DTSTART:20260308T070000
END:DAYLIGHT
BEGIN:STANDARD
TZOFFSETFROM:-0400
TZOFFSETTO:-0500
TZNAME:EST
DTSTART:20261101T060000
END:STANDARD
BEGIN:DAYLIGHT
TZOFFSETFROM:-0500
TZOFFSETTO:-0400
TZNAME:EDT
DTSTART:20270314T070000
END:DAYLIGHT
BEGIN:STANDARD
TZOFFSETFROM:-0400
TZOFFSETTO:-0500
TZNAME:EST
DTSTART:20271107T060000
END:STANDARD
BEGIN:DAYLIGHT
TZOFFSETFROM:-0500
TZOFFSETTO:-0400
TZNAME:EDT
DTSTART:20280312T070000
END:DAYLIGHT
BEGIN:STANDARD
TZOFFSETFROM:-0400
TZOFFSETTO:-0500
TZNAME:EST
DTSTART:20281105T060000
END:STANDARD
END:VTIMEZONE
BEGIN:VEVENT
DTSTART;TZID=America/New_York:20260519T190000
DTEND;TZID=America/New_York:20260519T200000
DTSTAMP:20260425T190008
CREATED:20260423T170418Z
LAST-MODIFIED:20260423T170418Z
UID:10002165-1779217200-1779220800@mtlebanon.org
SUMMARY:Public Library Board of Trustees Meeting
DESCRIPTION:
URL:https://mtlebanon.org/event/public-library-board-of-trustees-meeting-3/
LOCATION:Mt. Lebanon Public Library\, 16 Castle Shannon Blvd.\, Pittsburgh\, PA\, 15228\, United States
CATEGORIES:Library Board
END:VEVENT
BEGIN:VEVENT
DTSTART;TZID=America/New_York:20260721T190000
DTEND;TZID=America/New_York:20260721T200000
DTSTAMP:20260425T190008
CREATED:20260423T173100Z
LAST-MODIFIED:20260423T173100Z
UID:10002166-1784660400-1784664000@mtlebanon.org
SUMMARY:Public Library Board of Trustees Meeting
DESCRIPTION:
URL:https://mtlebanon.org/event/public-library-board-of-trustees-meeting-4/
LOCATION:Mt. Lebanon Public Library\, 16 Castle Shannon Blvd.\, Pittsburgh\, PA\, 15228\, United States
CATEGORIES:Library Board
END:VEVENT
BEGIN:VEVENT
DTSTART;TZID=America/New_York:20260915T190000
DTEND;TZID=America/New_York:20260915T200000
DTSTAMP:20260425T190008
CREATED:20260423T173134Z
LAST-MODIFIED:20260423T173134Z
UID:10002167-1789498800-1789502400@mtlebanon.org
SUMMARY:Public Library Board of Trustees Meeting
DESCRIPTION:
URL:https://mtlebanon.org/event/public-library-board-of-trustees-meeting-25/
LOCATION:Mt. Lebanon Public Library\, 16 Castle Shannon Blvd.\, Pittsburgh\, PA\, 15228\, United States
CATEGORIES:Library Board
END:VEVENT
BEGIN:VEVENT
DTSTART;TZID=America/New_York:20261117T190000
DTEND;TZID=America/New_York:20261117T200000
DTSTAMP:20260425T190008
CREATED:20260423T173207Z
LAST-MODIFIED:20260423T173207Z
UID:10002168-1794942000-1794945600@mtlebanon.org
SUMMARY:Public Library Board of Trustees Meeting
DESCRIPTION:
URL:https://mtlebanon.org/event/public-library-board-of-trustees-meeting-26/
LOCATION:Mt. Lebanon Public Library\, 16 Castle Shannon Blvd.\, Pittsburgh\, PA\, 15228\, United States
CATEGORIES:Library Board
END:VEVENT
BEGIN:VEVENT
DTSTART;TZID=America/New_York:20270119T190000
DTEND;TZID=America/New_York:20270119T200000
DTSTAMP:20260425T190008
CREATED:20260423T173238Z
LAST-MODIFIED:20260423T173238Z
UID:10002169-1800385200-1800388800@mtlebanon.org
SUMMARY:Public Library Board of Trustees Meeting
DESCRIPTION:
URL:https://mtlebanon.org/event/public-library-board-of-trustees-meeting-27/
LOCATION:Mt. Lebanon Public Library\, 16 Castle Shannon Blvd.\, Pittsburgh\, PA\, 15228\, United States
CATEGORIES:Library Board
END:VEVENT
BEGIN:VEVENT
DTSTART;TZID=America/New_York:20270216T190000
DTEND;TZID=America/New_York:20270216T200000
DTSTAMP:20260425T190008
CREATED:20260423T173314Z
LAST-MODIFIED:20260423T173314Z
UID:10002170-1802804400-1802808000@mtlebanon.org
SUMMARY:Public Library Board of Trustees Meeting
DESCRIPTION:
URL:https://mtlebanon.org/event/public-library-board-of-trustees-meeting-28/
LOCATION:Mt. Lebanon Public Library\, 16 Castle Shannon Blvd.\, Pittsburgh\, PA\, 15228\, United States
CATEGORIES:Library Board
END:VEVENT
BEGIN:VEVENT
DTSTART;TZID=America/New_York:20270316T190000
DTEND;TZID=America/New_York:20270316T200000
DTSTAMP:20260425T190008
CREATED:20260423T173347Z
LAST-MODIFIED:20260423T173347Z
UID:10002171-1805223600-1805227200@mtlebanon.org
SUMMARY:Public Library Board of Trustees Meeting
DESCRIPTION:
URL:https://mtlebanon.org/event/public-library-board-of-trustees-meeting-29/
LOCATION:Mt. Lebanon Public Library\, 16 Castle Shannon Blvd.\, Pittsburgh\, PA\, 15228\, United States
CATEGORIES:Library Board
END:VEVENT
BEGIN:VEVENT
DTSTART;TZID=America/New_York:20270420T190000
DTEND;TZID=America/New_York:20270420T200000
DTSTAMP:20260425T190008
CREATED:20260423T173427Z
LAST-MODIFIED:20260423T173501Z
UID:10002172-1808247600-1808251200@mtlebanon.org
SUMMARY:Public Library Board of Trustees Meeting
DESCRIPTION:
URL:https://mtlebanon.org/event/public-library-board-of-trustees-meeting-30/
LOCATION:Mt. Lebanon Public Library\, 16 Castle Shannon Blvd.\, Pittsburgh\, PA\, 15228\, United States
CATEGORIES:Library Board
END:VEVENT
END:VCALENDAR